BEGIN:VCALENDAR
PRODID:-//dvv-bw.de//dvv.Portalplattform//DE
VERSION:2.0
METHOD:PUBLISH
BEGIN:VEVENT
DTSTART:20260812T130000Z
DTEND:20260812T150000Z
DTSTAMP:20260426T031523Z
UID:523252316610-523227723901-1786485600000
SUMMARY:Die Wollmäuse
LOCATION:Familienzentrum (Seminarraum), Malvenweg 33
DESCRIPTION:Spaß haben am Kreativen Gestalten in netter Runde - mal nach Jahreszeit und immer auch nach den Wünschen der Teilnehmer\nBasteln Sie gerne\, werden kreativ oder ist Ihre Leidenschaft das Stricken? Dann sind Sie an diesem Nachmittag genau richtig im Familienzentrum! Wir freuen uns über viele neue Gesichter!\nEin kostenfreies Angebot des Treffpunkt Gehenbühl.\nSchauen Sie einfach mal rein!\nKontakt kreatives Gestalten: Doris Bauer Tel. 07156/29639 oder Wollmäuse: Karola Stock Tel. 0711/886799
CLASS:PUBLIC
X-ALT-DESC;FMTTYPE=text/html:Spaß haben am Kreativen Gestalten in netter Runde - mal nach Jahreszeit und immer auch nach den Wünschen der Teilnehmer<br>Basteln Sie gerne\, werden kreativ oder ist Ihre Leidenschaft das Stricken? Dann sind Sie an diesem Nachmittag genau richtig im Familienzentrum! Wir freuen uns über viele neue Gesichter!<br>Ein kostenfreies Angebot des Treffpunkt Gehenbühl.<br>Schauen Sie einfach mal rein!<br>Kontakt kreatives Gestalten: Doris Bauer Tel. 07156/29639 oder Wollmäuse: Karola Stock Tel. 0711/886799
END:VEVENT
END:VCALENDAR
